BEGIN:VCALENDAR
VERSION:2.0
PRODID:-//Südheide Info - ECPv6.10.1.1//NONSGML v1.0//EN
CALSCALE:GREGORIAN
METHOD:PUBLISH
X-WR-CALNAME:Südheide Info
X-ORIGINAL-URL:https://suedheide.info
X-WR-CALDESC:Veranstaltungen für Südheide Info
REFRESH-INTERVAL;VALUE=DURATION:PT1H
X-Robots-Tag:noindex
X-PUBLISHED-TTL:PT1H
BEGIN:VTIMEZONE
TZID:Europe/Berlin
BEGIN:DAYLIGHT
TZOFFSETFROM:+0100
TZOFFSETTO:+0200
TZNAME:CEST
DTSTART:20240331T010000
END:DAYLIGHT
BEGIN:STANDARD
TZOFFSETFROM:+0200
TZOFFSETTO:+0100
TZNAME:CET
DTSTART:20241027T010000
END:STANDARD
END:VTIMEZONE
BEGIN:VEVENT
DTSTART;TZID=Europe/Berlin:20240421T100000
DTEND;TZID=Europe/Berlin:20240421T120000
DTSTAMP:20260424T055508
CREATED:20240415T114042Z
LAST-MODIFIED:20240415T125915Z
UID:10000024-1713693600-1713700800@suedheide.info
SUMMARY:Internationales Frühstück\, Unterlüß
DESCRIPTION:So geht’s: \nIhr bringt euer Besteck\, Becher und ein Essen für das Frühstücksbuffet mit. \nWir kümmern uns um Sitzmöglichkeiten\, Wasser\, die Organisation und gutes Wetter. \nOffene Fragen beantwortet gerne Kai Förstermann via Mail \ninfo@kaifoerstermann.de \noder Tel. 0160 97501952
URL:https://suedheide.info/event/internationales-fruehstueck-unterluess/
LOCATION:Rathausplatz\, Unterlüß\, Urwaldschneise 1\, Unterlüß\, 29345\, Deutschland
ATTACH;FMTTYPE=image/jpeg:https://suedheide.info/wp-content/uploads/2024/04/IMG_9283.jpeg
END:VEVENT
END:VCALENDAR