BEGIN:VCALENDAR
VERSION:2.0
PRODID:-//Südheide Info - ECPv6.10.1.1//NONSGML v1.0//EN
CALSCALE:GREGORIAN
METHOD:PUBLISH
X-ORIGINAL-URL:https://suedheide.info
X-WR-CALDESC:Veranstaltungen für Südheide Info
REFRESH-INTERVAL;VALUE=DURATION:PT1H
X-Robots-Tag:noindex
X-PUBLISHED-TTL:PT1H
BEGIN:VTIMEZONE
TZID:Europe/Berlin
BEGIN:DAYLIGHT
TZOFFSETFROM:+0100
TZOFFSETTO:+0200
TZNAME:CEST
DTSTART:20240331T010000
END:DAYLIGHT
BEGIN:STANDARD
TZOFFSETFROM:+0200
TZOFFSETTO:+0100
TZNAME:CET
DTSTART:20241027T010000
END:STANDARD
END:VTIMEZONE
BEGIN:VEVENT
DTSTART;TZID=Europe/Berlin:20240505T100000
DTEND;TZID=Europe/Berlin:20240505T150000
DTSTAMP:20260424T032230
CREATED:20240328T060808Z
LAST-MODIFIED:20240328T060808Z
UID:10000019-1714903200-1714921200@suedheide.info
SUMMARY:Gedenkfeier zum 79. Jahrestag der Befreiung des ehemaligen KZ Bergen-Belsen
DESCRIPTION:Programm noch nicht bekanntgegeben.
URL:https://suedheide.info/event/gedenkfeier-zum-79-jahrestag-der-befreiung-des-ehemaligen-kz-bergen-belsen/
LOCATION:Gedenkstätte Bergen-Belsen\, Anne-Frank-Platz\, Lohheide\, 29303
CATEGORIES:Sonstiges
END:VEVENT
BEGIN:VEVENT
DTSTART;TZID=Europe/Berlin:20240421T143000
DTEND;TZID=Europe/Berlin:20240421T163000
DTSTAMP:20260424T032230
CREATED:20240327T171853Z
LAST-MODIFIED:20240327T172059Z
UID:10000018-1713709800-1713717000@suedheide.info
SUMMARY:Finissage der Sonderausstellung „Rosa Winkel. Als homosexuell verfolgte Häftlinge in den Konzentrationslagern Buchenwald und Mittelbau-Dora"
DESCRIPTION:Podiumsgespräch mit Prof. Dr. Jens-Christian Wagner (Direktor der Stiftung Gedenkstätten Buchenwald und Mittelbau-Dora\, Inhaber des Lehrstuhls für Geschichte in Medien und Öffentlichkeit an der Friedrich-Schiller-Universität zu Jena und Kurator dieser Sonderausstellung)\, Dr. Kirsten Plötz (Historikerin\, Koblenz) und Dr. Elke Gryglewski (Leiterin der Gedenkstätte Bergen-Belsen und Geschäftsführerin der Stiftung niedersächsische Gedenkstätten) zum Thema „Die Bedeutung der Auseinandersetzung mit queeren Opfern in der Gedenkstättenarbeit“.
URL:https://suedheide.info/event/finissage-der-sonderausstellung-rosa-winkel-als-homosexuell-verfolgte-haeftlinge-in-den-konzentrationslagern-buchenwald-und-mittelbau-dora/
LOCATION:Gedenkstätte Bergen-Belsen\, Anne-Frank-Platz\, Lohheide\, 29303
CATEGORIES:Sonstiges
END:VEVENT
BEGIN:VEVENT
DTSTART;TZID=Europe/Berlin:20240407T143000
DTEND;TZID=Europe/Berlin:20240407T160000
DTSTAMP:20260424T032230
CREATED:20240327T171523Z
LAST-MODIFIED:20240327T171523Z
UID:10000017-1712500200-1712505600@suedheide.info
SUMMARY:Thematischer Rundgang: Homosexuelle Häftlinge im KZ Bergen-Belsen
DESCRIPTION:Thematischer Rundgang im Rahmen der Sonderausstellung „Rosa Winkel. Als homosexuell verfolgte Häftlinge in den Konzentrationslagern Buchenwald und Mittelbau-Dora“ \nAuch das Konzentrationslager Bergen-Belsen war seit Frühjahr 1944 Zielort für Transporte mit homosexuellen Häftlingen. Zu Beginn war dieses Lager nur für jüdische Häftlinge eingerichtet worden\, die gegen Auslandsdeutsche ausgetauscht werden sollten. Für die homosexuellen Häftlinge war Bergen-Belsen die letzte Station auf ihrem Verfolgungsweg. Zuvor waren sie in Gefängnissen\, Zuchthäusern und anderen Konzentrationslagern inhaftiert. Warum wurden sie nach Bergen-Belsen gebracht? \nWas ist über ihre Identität und ihre Lebenssituation im KZ Bergen-Belsen bekannt? Was bedeuteten Befreiung und Kriegsende für sie? Welche Folgen hatte die nationalsozialistische Verfolgung für die überlebenden Homosexuellen im Vergleich zu den anderen in den nationalsozialistischen Konzentrationslagern inhaftierten Gruppen? \nDiese Fragen stehen im Mittelpunkt eines thematischen Rundgangs durch die Dauerausstellung mit Dr. Thomas Rahe\, dem ehemaligen langjährigen wissenschaftlichen Leiter der Gedenkstätte Bergen-Belsen. \nTreffpunkt ist am Informationstresen im Dokumentationszentrum der Gedenkstätte. Der Eintritt ist frei.
URL:https://suedheide.info/event/thematischer-rundgang-homosexuelle-haeftlinge-im-kz-bergen-belsen/
LOCATION:Gedenkstätte Bergen-Belsen\, Anne-Frank-Platz\, Lohheide\, 29303
CATEGORIES:Sonstiges
END:VEVENT
END:VCALENDAR