BEGIN:VCALENDAR
VERSION:2.0
PRODID:-//Südheide Info - ECPv6.10.1.1//NONSGML v1.0//EN
CALSCALE:GREGORIAN
METHOD:PUBLISH
X-ORIGINAL-URL:https://suedheide.info
X-WR-CALDESC:Veranstaltungen für Südheide Info
REFRESH-INTERVAL;VALUE=DURATION:PT1H
X-Robots-Tag:noindex
X-PUBLISHED-TTL:PT1H
BEGIN:VTIMEZONE
TZID:Europe/Berlin
BEGIN:DAYLIGHT
TZOFFSETFROM:+0100
TZOFFSETTO:+0200
TZNAME:CEST
DTSTART:20240331T010000
END:DAYLIGHT
BEGIN:STANDARD
TZOFFSETFROM:+0200
TZOFFSETTO:+0100
TZNAME:CET
DTSTART:20241027T010000
END:STANDARD
END:VTIMEZONE
BEGIN:VEVENT
DTSTART;TZID=Europe/Berlin:20240412T190000
DTEND;TZID=Europe/Berlin:20240412T220000
DTSTAMP:20260423T222928
CREATED:20240320T182519Z
LAST-MODIFIED:20240322T003002Z
UID:10000007-1712948400-1712959200@suedheide.info
SUMMARY:Filmvorführung "Kleine Germanen" mit anschließender Diskussion! Eschede
DESCRIPTION:Filmvorführung mit anschließender Diskussion!\n„Kleine Germanen“ ist ein deutscher\, teil-animierter Dokumentarfilm von Mohammad Farokhmanesh und Frank Geiger.\nDer Film beschäftigt sich mit Kindern\, die in einem demokratiefeindlichen Umfeld aufwachsen nach dogmatischen Prinzipien rechtsextremer Ideologie erzogen werden\, und startete erstmals am 9. Mai 2019 in den deutschen Kinos.\nEr ist spannend und regt zur Diskussion an\, wie Kinder in Parallelwelten aufwachsen.\nBitte beachten Sie die FSK Freigabe ab 12 Jahre.
URL:https://suedheide.info/event/filmvorfuehrung-kleine-germanen-mit-anschliessender-diskussion-eschede/
LOCATION:Eschenhuus\, Eschede\, Am Glockenkolk 3\, Eschede\, 29348\, Deutschland
CATEGORIES:Kino und Filmvorführung
ATTACH;FMTTYPE=image/jpeg:https://suedheide.info/wp-content/uploads/2024/03/Filmvorfuehrung-mit-anschliessender-Diskussion-Kleine-Germanen-12.04.2024-Eschede.jpeg
ORGANIZER;CN="B%C3%BCndnis gegen Rechtsextremismus Eschede":MAILTO:BgR-Eschede@mail.de
END:VEVENT
BEGIN:VEVENT
DTSTART;TZID=Europe/Berlin:20240325T180000
DTEND;TZID=Europe/Berlin:20240325T203000
DTSTAMP:20260423T222928
CREATED:20240320T072446Z
LAST-MODIFIED:20240320T072446Z
UID:10000006-1711389600-1711398600@suedheide.info
SUMMARY:Die OMAS kommen nach Eschede!
DESCRIPTION:View this post on Instagram\n\n\n\n\n\n\n\n\n\n\n\n\n\n\n\n\n\n\n\n\n\n\n \nA post shared by OMAS GEGEN RECHTS Hannover (@omasgegenrechts_hannover)
URL:https://suedheide.info/event/die-omas-kommen-nach-eschede/
LOCATION:Eschenhuus\, Eschede\, Am Glockenkolk 3\, Eschede\, 29348\, Deutschland
CATEGORIES:Demos und Kundgebungen
ATTACH;FMTTYPE=image/jpeg:https://suedheide.info/wp-content/uploads/2024/03/Die_OMAS_kommen_nach_Eschede_25_03_2024.jpg
ORGANIZER;CN="OMAS GEGEN RECHTS%2C Hannover":MAILTO:ogr.hannover@gmail.com
END:VEVENT
END:VCALENDAR