BEGIN:VCALENDAR
VERSION:2.0
PRODID:-//Südheide Info - ECPv6.10.1.1//NONSGML v1.0//EN
CALSCALE:GREGORIAN
METHOD:PUBLISH
X-WR-CALNAME:Südheide Info
X-ORIGINAL-URL:https://suedheide.info
X-WR-CALDESC:Veranstaltungen für Südheide Info
REFRESH-INTERVAL;VALUE=DURATION:PT1H
X-Robots-Tag:noindex
X-PUBLISHED-TTL:PT1H
BEGIN:VTIMEZONE
TZID:Europe/Berlin
BEGIN:DAYLIGHT
TZOFFSETFROM:+0100
TZOFFSETTO:+0200
TZNAME:CEST
DTSTART:20240331T010000
END:DAYLIGHT
BEGIN:STANDARD
TZOFFSETFROM:+0200
TZOFFSETTO:+0100
TZNAME:CET
DTSTART:20241027T010000
END:STANDARD
END:VTIMEZONE
BEGIN:VEVENT
DTSTART;TZID=Europe/Berlin:20240419T183000
DTEND;TZID=Europe/Berlin:20240419T203000
DTSTAMP:20260424T072359
CREATED:20240321T064754Z
LAST-MODIFIED:20240321T064754Z
UID:10000010-1713551400-1713558600@suedheide.info
SUMMARY:Gemeinsames Schilder gestalten - Für die Kundgebung in Unterlüß\, Müden
DESCRIPTION:
URL:https://suedheide.info/event/gemeinsames-schilder-gestalten-fuer-die-kundgebung-in-unterluess-mueden/
LOCATION:Bei Ott’s\, Müden / Örtze\, 29328
CATEGORIES:Sonstiges
ATTACH;FMTTYPE=image/jpeg:https://suedheide.info/wp-content/uploads/2024/03/Gemeinsam-BUNT-Bei-Otts-Veranstaltungen-April-2024.jpg
ORGANIZER;CN="Bei Ott's":MAILTO:info@beiotts.de
END:VEVENT
BEGIN:VEVENT
DTSTART;TZID=Europe/Berlin:20240419T153000
DTEND;TZID=Europe/Berlin:20240419T180000
DTSTAMP:20260424T072359
CREATED:20240321T064655Z
LAST-MODIFIED:20240321T064655Z
UID:10000009-1713540600-1713549600@suedheide.info
SUMMARY:Basteln für Kids - Wir sind bunt und basteln Regenbögen\, Müden
DESCRIPTION:Anmeldung bis zum 12.04.24 unter info@beiotts.de oder während der Öffnungszeiten „Bei Ott‘s“. \nEin Erwachsener bleibt bitte in der Nähe
URL:https://suedheide.info/event/basteln-fuer-kids-wir-sind-bunt-und-basteln-regenboegen-mueden/
LOCATION:Bei Ott’s\, Müden / Örtze\, 29328
CATEGORIES:Kinder und Jugendliche
ATTACH;FMTTYPE=image/jpeg:https://suedheide.info/wp-content/uploads/2024/03/Gemeinsam-BUNT-Bei-Otts-Veranstaltungen-April-2024.jpg
ORGANIZER;CN="Bei Ott's":MAILTO:info@beiotts.de
END:VEVENT
END:VCALENDAR