BEGIN:VCALENDAR
VERSION:2.0
PRODID:-//Südheide Info - ECPv6.10.1.1//NONSGML v1.0//EN
CALSCALE:GREGORIAN
METHOD:PUBLISH
X-WR-CALNAME:Südheide Info
X-ORIGINAL-URL:https://suedheide.info
X-WR-CALDESC:Veranstaltungen für Südheide Info
REFRESH-INTERVAL;VALUE=DURATION:PT1H
X-Robots-Tag:noindex
X-PUBLISHED-TTL:PT1H
BEGIN:VTIMEZONE
TZID:Europe/Berlin
BEGIN:DAYLIGHT
TZOFFSETFROM:+0100
TZOFFSETTO:+0200
TZNAME:CEST
DTSTART:20240331T010000
END:DAYLIGHT
BEGIN:STANDARD
TZOFFSETFROM:+0200
TZOFFSETTO:+0100
TZNAME:CET
DTSTART:20241027T010000
END:STANDARD
END:VTIMEZONE
BEGIN:VEVENT
DTSTART;TZID=Europe/Berlin:20240330T103000
DTEND;TZID=Europe/Berlin:20240330T140000
DTSTAMP:20260424T115556
CREATED:20240312T133239Z
LAST-MODIFIED:20240327T063959Z
UID:10000002-1711794600-1711807200@suedheide.info
SUMMARY:Osteraktion 24 in Unterlüß
DESCRIPTION:Die Kriege müssen enden – die Welt braucht Frieden! Waffenstillstand in der Ukraine und im Nahen Osten\nOsteraktion 24 in Unterlüß am 30. März 2024\nUnterlüß: Die Vorbereitungsgruppe der Friedensaktion Südheide hat die Vorarbeit für die Osteraktion 24 in Unterlüß abgeschlossen. Dies ist das fünfte Mal\, dass im Rahmen der bundesweiten Ostermarschbewegung in der Südheide auf dem „platten Land“ eine Friedensaktion organisiert wird. \nDie Vorbereitungsgruppe setzte sich von Beginn an aus Personen aus dem kirchlichen\, dem gewerkschaftlichen Bereich und dem zivilgesellschaftlichen Leben der Nachbarorte zusammen. Dieser Grundsatz hat sich trotz wechselnder Namen bis heute nicht geändert. \nEs werden alle friedliebenden Menschen in den Kommunen der Südheide\, in der ganzen Lüneburger Heide und darüber hinaus aufgerufen\, sich am Ostersamstag an der Osteraktion 24 in Unterlüß zu beteiligen. Das Blutvergießen und die Kriege in der Ukraine\, in Gaza und Israel und überall auf der Welt müssen aufhören! \nTreffpunkt mit Transparenten und Plakaten ist um 10:30 der Bahnhof Unterlüß; dort kommen Züge aus Richtung Hamburg und Hannover an. Ein Friedensmarsch führt dann durch den Ort in die Neuensothriether Straße zur Fa. Rheinmetall. Ab ca. 11:15 startet eine Friedenskundgebung mit Rede- und Musikbeiträgen. Teilnehmer*innen\, die nicht gut zu Fuß sind\, können direkt dort hinkommen. Als Teil der bundesweiten Ostermarsch- und Friedensbewegung möchten die Einladenden den Protest gewaltfrei gegen den kriegerischen Zeitgeist auf die Straße und vor das Tor des großen und weltweit agierenden Rüstungsbetriebes bringen. \nKriege enden\, indem deeskaliert und diplomatische Lösungen gesucht werden. Die Waffen müssen schweigen\, um Friedensverhandlungen zu ermöglichen. Die Bundesregierung wird aufgefordert\, sich von der Kriegslogik abzuwenden und alle Anstrengungen auf eine Friedenslösung zu richten – für die Ukraine\, für den Nahen Osten und für all die anderen Konfliktherde weltweit. \nEntstanden ist die Idee zur Friedensaktion Südheide Ende 2019\, um Ostern 2020 an den Beginn der bundesdeutschen Ostermarschbewegung in der Lüneburger Heide vor 60 Jahren zu erinnern. Damals gab es Friedensmärsche\, die von Bremen\, Hamburg und Hannover über mehrere Tage nach Bergen zum ehemaligen KZ Bergen-Belsen führten. Sie richteten sich gegen die Atombewaffnung der jungen Bundeswehr. Die Initiator*innen für den Neubeginn der Ostermarschbewegung wählten Unterlüß aus\, weil mit der großen Munitions- und Waffenfabrik Rheinmetall und dem größten privaten Schießplatz in Europa ein Fixpunkt für Friedensaktionen gegen Rüstung\, Waffenexporte und Krieg gegeben ist. Die Fa. Rheinmetall hat weit über die Region und die Lüneburger Heide hinaus eine wichtige Bedeutung und einen großen Bekanntheitsgrad. \n\nUpdate: Pressebericht zur Osteraktion „Osteraktion 24 in Unterlüß  – Ostersamstag: über 100 Menschen werden erwartet – Prominenz meldet sich zu Wort“\, Celler Presse\, 25.03.2024 \nDownload Pressemitteilung\nDownload Flyer
URL:https://suedheide.info/event/osteraktion-24-in-unterluess/
LOCATION:Bahnhof Unterlüß\, Müdener Str. 1\, Unterlüß\, 29345
CATEGORIES:Demos und Kundgebungen
ATTACH;FMTTYPE=image/jpeg:https://suedheide.info/wp-content/uploads/2024/03/Osteraktion-2022-scaled.jpeg
ORGANIZER;CN="Friedensaktion S%C3%BCdheide / Hans-Dietrich Springhorn":MAILTO:springhorn.artelt@t-online.de
END:VEVENT
END:VCALENDAR