BEGIN:VCALENDAR
VERSION:2.0
PRODID:-//Südheide Info - ECPv6.10.1.1//NONSGML v1.0//EN
CALSCALE:GREGORIAN
METHOD:PUBLISH
X-ORIGINAL-URL:https://suedheide.info
X-WR-CALDESC:Veranstaltungen für Südheide Info
REFRESH-INTERVAL;VALUE=DURATION:PT1H
X-Robots-Tag:noindex
X-PUBLISHED-TTL:PT1H
BEGIN:VTIMEZONE
TZID:Europe/Berlin
BEGIN:DAYLIGHT
TZOFFSETFROM:+0100
TZOFFSETTO:+0200
TZNAME:CEST
DTSTART:20240331T010000
END:DAYLIGHT
BEGIN:STANDARD
TZOFFSETFROM:+0200
TZOFFSETTO:+0100
TZNAME:CET
DTSTART:20241027T010000
END:STANDARD
END:VTIMEZONE
BEGIN:VEVENT
DTSTART;TZID=Europe/Berlin:20240421T100000
DTEND;TZID=Europe/Berlin:20240421T120000
DTSTAMP:20260424T053830
CREATED:20240415T114042Z
LAST-MODIFIED:20240415T125915Z
UID:10000024-1713693600-1713700800@suedheide.info
SUMMARY:Internationales Frühstück\, Unterlüß
DESCRIPTION:So geht’s: \nIhr bringt euer Besteck\, Becher und ein Essen für das Frühstücksbuffet mit. \nWir kümmern uns um Sitzmöglichkeiten\, Wasser\, die Organisation und gutes Wetter. \nOffene Fragen beantwortet gerne Kai Förstermann via Mail \ninfo@kaifoerstermann.de \noder Tel. 0160 97501952
URL:https://suedheide.info/event/internationales-fruehstueck-unterluess/
LOCATION:Rathausplatz\, Unterlüß\, Urwaldschneise 1\, Unterlüß\, 29345\, Deutschland
ATTACH;FMTTYPE=image/jpeg:https://suedheide.info/wp-content/uploads/2024/04/IMG_9283.jpeg
END:VEVENT
BEGIN:VEVENT
DTSTART;TZID=Europe/Berlin:20240419T190000
DTEND;TZID=Europe/Berlin:20240419T210000
DTSTAMP:20260424T053830
CREATED:20240324T100532Z
LAST-MODIFIED:20240324T123117Z
UID:10000015-1713553200-1713560400@suedheide.info
SUMMARY:Zwischen Erinnerungskultur\, Rechtsruck und Politikverdrossenheit – Bergen-Belsen als Mahnmal für die Demokratie\, Hermannsburg
DESCRIPTION:Bergen-Belsen gilt neben Auschwitz weithin als Synonym für die Unmenschlichkeit des NS- Systems. Bekannt sind in der Weltöffentlichkeit die grauenhaften Bilder\, die britische Militär-Fotoeinheiten bei der Befreiung der Häftlinge am 15. April 1945\, vom Lager und seinen Insassen machten: tausnede unbeerdigte Leichen\, etwa 60.000 Menschen\, die lebenden Skeletten glichen\, gezeichnet von den Spuren der unerträglichen „Lebensbedingungen“ in den verschiedenen Lagern\, deren letzte Station das Konzentrationslager Bergen-Belsen gebildet hatte.\nDass nun am Hitlergeburtstag\, in direkter Nähe zu einem der Außenlager Bergen-Belsens\, die AfD ihren Landesparteitag abhalten wird\, darf nicht unwidersprochen bleiben. Daher laden die Ortverbände Bündnis 90 / Die Grünen gemeinsam mit der SPD zu einer Informationsveranstaltung. Dabei wird die Historikerin Dr. Alexandra Wenck die Sonderrolle des Konzentrationslagers Bergen-Belsen im nationalsozialistischen Lagersystem erörtern\, während Hendrik Altmann die Geschichte des Tannenberglagers in Unterlüß in den Blick nimmt. Der ehemalige wissenschaftliche Leiter der Gedenkstätte\, Dr. Thomas Rahe\, geht der Frage nach\, wer die Opfer des Konzentrationslagers Bergen-Belsen waren und welche Konsequenzen die Verfolgung für sie hatte. Abschließend gilt sein Blick der Entwicklung der deutschen Erinnerungskultur am Beispiel der Gedenkstätte Bergen-Belsen.\nDie Veranstaltung findet am Freitag\, 19. April 2024\, ab 19.00 Uhr\, im Evangelischen Bildungszentrum Hermannsburg (Lutterweg 16\, 29320 Südheide) statt.
URL:https://suedheide.info/event/zwischen-erinnerungskultur-rechtsruck-und-politikverdrossenheit-bergen-belsen-als-mahnmal-fuer-die-demokratie-hermannsburg/
LOCATION:Ev. Bildungszentrum Hermannsburg\, Lutterweg 16\, Hermannsburg\, Niedersachsen\, 29320\, Deutschland
CATEGORIES:Vorträge und Diskussionen
ATTACH;FMTTYPE=image/png:https://suedheide.info/wp-content/uploads/2024/03/Zwischen-Erinnerungskultur-Rechtsruck-und-Politikverdrossenheit-–-Bergen-Belsen-als-Mahnmal-fuer-die-Demokratie-19.04.2024-19.00.png
END:VEVENT
BEGIN:VEVENT
DTSTART;TZID=Europe/Berlin:20240330T150000
DTEND;TZID=Europe/Berlin:20240330T170000
DTSTAMP:20260424T053830
CREATED:20240323T170725Z
LAST-MODIFIED:20240323T170944Z
UID:10000014-1711810800-1711818000@suedheide.info
SUMMARY:Ostereiersuche der Vielfalt\, Hermannsburg
DESCRIPTION:SPD und Grüne veranstalten wieder Ostereiersuche\nAm Samstag dem 30.03.2024 veranstalten die lokalen Ortsgruppen von SPD und Bündnis 90/Die Grünen zum dritten Mal die „Ostereiersuche der #vielfalt“ in Hermannsburg. Wie schon im Vorjahr\, gibt es für die Kinder auch dieses Jahr einiges zu finden. Darunter auch Kreide-Eier\, mit denen die Wege im Park bunt bemalt werden dürfen. Treffpunkt ist wie letztes Jahr der Autriver Platz in Hermannsburg. Los geht’s um 15:00 Uhr.
URL:https://suedheide.info/event/ostereiersuche-der-vielfalt-hermannsburg/
LOCATION:Autriver Platz\, Hermannsburg\, Harmsstraße 2\, Südheide\, 29320
CATEGORIES:Kinder und Jugendliche
ATTACH;FMTTYPE=image/jpeg:https://suedheide.info/wp-content/uploads/2024/03/Ostereiersuche-der-Vielfalt-30.03.2024-15-bis-17-Uhr-Hermannsburg.jpg
END:VEVENT
END:VCALENDAR