BEGIN:VCALENDAR
VERSION:2.0
PRODID:-//Südheide Info - ECPv6.10.1.1//NONSGML v1.0//EN
CALSCALE:GREGORIAN
METHOD:PUBLISH
X-WR-CALNAME:Südheide Info
X-ORIGINAL-URL:https://suedheide.info
X-WR-CALDESC:Veranstaltungen für Südheide Info
REFRESH-INTERVAL;VALUE=DURATION:PT1H
X-Robots-Tag:noindex
X-PUBLISHED-TTL:PT1H
BEGIN:VTIMEZONE
TZID:Europe/Berlin
BEGIN:DAYLIGHT
TZOFFSETFROM:+0100
TZOFFSETTO:+0200
TZNAME:CEST
DTSTART:20240331T010000
END:DAYLIGHT
BEGIN:STANDARD
TZOFFSETFROM:+0200
TZOFFSETTO:+0100
TZNAME:CET
DTSTART:20241027T010000
END:STANDARD
END:VTIMEZONE
BEGIN:VEVENT
DTSTART;TZID=Europe/Berlin:20240429T164500
DTEND;TZID=Europe/Berlin:20240429T180000
DTSTAMP:20260424T042335
CREATED:20240421T184206Z
LAST-MODIFIED:20240421T184206Z
UID:10000025-1714409100-1714413600@suedheide.info
SUMMARY:Kein Raum für #noAfD Propaganda
DESCRIPTION:Kundgebung vor der Stadthalle Walsrode  \n 
URL:https://suedheide.info/event/kein-raum-fuer-noafd-propaganda/
LOCATION:Vor der Stadthalle Walsrode\, Robert-Koch-Straße 1\, Walsrode\, 29664
CATEGORIES:Demos und Kundgebungen
ATTACH;FMTTYPE=image/jpeg:https://suedheide.info/wp-content/uploads/2024/04/Screenshot_20240421_192739_Instagram.jpg
END:VEVENT
END:VCALENDAR