BEGIN:VCALENDAR
VERSION:2.0
PRODID:-//Südheide Info - ECPv6.10.1.1//NONSGML v1.0//EN
CALSCALE:GREGORIAN
METHOD:PUBLISH
X-ORIGINAL-URL:https://suedheide.info
X-WR-CALDESC:Veranstaltungen für Südheide Info
REFRESH-INTERVAL;VALUE=DURATION:PT1H
X-Robots-Tag:noindex
X-PUBLISHED-TTL:PT1H
BEGIN:VTIMEZONE
TZID:Europe/Berlin
BEGIN:DAYLIGHT
TZOFFSETFROM:+0100
TZOFFSETTO:+0200
TZNAME:CEST
DTSTART:20240331T010000
END:DAYLIGHT
BEGIN:STANDARD
TZOFFSETFROM:+0200
TZOFFSETTO:+0100
TZNAME:CET
DTSTART:20241027T010000
END:STANDARD
END:VTIMEZONE
BEGIN:VEVENT
DTSTART;TZID=Europe/Berlin:20240327T183000
DTEND;TZID=Europe/Berlin:20240327T210000
DTSTAMP:20260424T134102
CREATED:20240318T065046Z
LAST-MODIFIED:20240318T065046Z
UID:10000005-1711564200-1711573200@suedheide.info
SUMMARY:Info-Veranstaltung zum Thema AfD in Niedersachsen\, Walsrode
DESCRIPTION:Download Flyer
URL:https://suedheide.info/event/info-veranstaltung-zum-thema-afd-in-niedersachsen-walsrode/
LOCATION:ver.di Bildungs- und Tagungszentrum Walsrode\, Sunderstr. 77\, Walsrode\, 29664
CATEGORIES:Vorträge und Diskussionen
ATTACH;FMTTYPE=image/jpeg:https://suedheide.info/wp-content/uploads/2024/03/Info-Veranstaltung-zum-Thema-AfD-in-Niedersachsen-Walsrode-27.03.2024.jpg
END:VEVENT
END:VCALENDAR