BEGIN:VCALENDAR
VERSION:2.0
PRODID:-//Südheide Info - ECPv6.10.1.1//NONSGML v1.0//EN
CALSCALE:GREGORIAN
METHOD:PUBLISH
X-ORIGINAL-URL:https://suedheide.info
X-WR-CALDESC:Veranstaltungen für Südheide Info
REFRESH-INTERVAL;VALUE=DURATION:PT1H
X-Robots-Tag:noindex
X-PUBLISHED-TTL:PT1H
BEGIN:VTIMEZONE
TZID:Europe/Berlin
BEGIN:DAYLIGHT
TZOFFSETFROM:+0100
TZOFFSETTO:+0200
TZNAME:CEST
DTSTART:20240331T010000
END:DAYLIGHT
BEGIN:STANDARD
TZOFFSETFROM:+0200
TZOFFSETTO:+0100
TZNAME:CET
DTSTART:20241027T010000
END:STANDARD
END:VTIMEZONE
BEGIN:VEVENT
DTSTART;TZID=Europe/Berlin:20240429T190000
DTEND;TZID=Europe/Berlin:20240429T220000
DTSTAMP:20260424T055614
CREATED:20240322T011419Z
LAST-MODIFIED:20240322T011419Z
UID:10000012-1714417200-1714428000@suedheide.info
SUMMARY:Lesung “Terror gegen Juden“ mit Ronen Steinke\, Celle
DESCRIPTION:Bereits vor dem Massaker am 7. Oktober 2023 in Israel war die Lage angespannt. In Deutschland hat man sich an Zustände gewöhnt\, an die man sich niemals gewöhnen darf: Jüdische Schulen müssen von Bewaffneten bewacht werden\, jüdischer Gottesdienst findet unter Polizeischutz statt\, Bedrohungen sind alltäglich. Der Staat hat zugelassen\, dass es so weit kommt – durch eine Polizei\, die diese Gefahr nicht effektiv abwehrt\, sondern verwaltet; durch eine Justiz\, die immer wieder beschönigt. \nDer jüdische Autor Ronen Steinke\, selbst Jurist\, ist durch Deutschland gereist und erzählt von jüdischem Leben im Belagerungszustand. Er trifft Rabbinerinnen und Polizisten\, konfrontiert Staatsschützer\, Geheimdienstler und Minister mit dem Staatsversagen. Viel muss sich ändern in Deutschland.
URL:https://suedheide.info/event/lesung-terror-gegen-juden-mit-ronen-steinke-celle/
LOCATION:Synagoge Celle\, Im Kreise 24\, Celle\, Deutschland
CATEGORIES:Lesungen und Buchvorstellungen
END:VEVENT
END:VCALENDAR